BEGIN:VCALENDAR
VERSION:2.0
PRODID:-//arcghvny.org//NONSGML kigkonsult.se iCalcreator 2.30.10//
CALSCALE:GREGORIAN
METHOD:PUBLISH
UID:06ba7029-cf62-453b-bb62-701824cb5bfc
X-WR-CALDESC:
X-WR-RELCALID:356e515ffa7ee6e4aa9f4d3557d9cc91
X-WR-TIMEZONE:America/New_York
BEGIN:VTIMEZONE
TZID:America/New_York
BEGIN:STANDARD
TZNAME:EST
DTSTART:20241103T020000
TZOFFSETFROM:-0400
TZOFFSETTO:-0500
RDATE:20251102T020000
RDATE:20261101T020000
END:STANDARD
BEGIN:DAYLIGHT
TZNAME:EDT
DTSTART:20250309T020000
TZOFFSETFROM:-0500
TZOFFSETTO:-0400
RDATE:20260308T020000
RDATE:20270314T020000
END:DAYLIGHT
END:VTIMEZONE
BEGIN:VEVENT
UID:f427ebe1-5dbd-42b7-a8aa-84f23f2b61e3
DTSTAMP:20260421T093011Z
DESCRIPTION:
DTSTART;TZID=America/New_York:20251030T170000
DTEND;TZID=America/New_York:20251030T210000
LOCATION:https://arcghvny.org/bourbon/the-arc-ghv-bourbon-tasting.html
SUMMARY:Bourbon Tasting
END:VEVENT
END:VCALENDAR
